BEGIN:VCALENDAR
VERSION:2.0
PRODID:-//Castlemaine Rocky Riders - ECPv6.15.18//NONSGML v1.0//EN
CALSCALE:GREGORIAN
METHOD:PUBLISH
X-ORIGINAL-URL:https://rockyriders.com
X-WR-CALDESC:Events for Castlemaine Rocky Riders
REFRESH-INTERVAL;VALUE=DURATION:PT1H
X-Robots-Tag:noindex
X-PUBLISHED-TTL:PT1H
BEGIN:VTIMEZONE
TZID:Australia/Melbourne
BEGIN:STANDARD
TZOFFSETFROM:+1100
TZOFFSETTO:+1000
TZNAME:AEST
DTSTART:20240406T160000
END:STANDARD
BEGIN:DAYLIGHT
TZOFFSETFROM:+1000
TZOFFSETTO:+1100
TZNAME:AEDT
DTSTART:20241005T160000
END:DAYLIGHT
BEGIN:STANDARD
TZOFFSETFROM:+1100
TZOFFSETTO:+1000
TZNAME:AEST
DTSTART:20250405T160000
END:STANDARD
BEGIN:DAYLIGHT
TZOFFSETFROM:+1000
TZOFFSETTO:+1100
TZNAME:AEDT
DTSTART:20251004T160000
END:DAYLIGHT
BEGIN:STANDARD
TZOFFSETFROM:+1100
TZOFFSETTO:+1000
TZNAME:AEST
DTSTART:20260404T160000
END:STANDARD
BEGIN:DAYLIGHT
TZOFFSETFROM:+1000
TZOFFSETTO:+1100
TZNAME:AEDT
DTSTART:20261003T160000
END:DAYLIGHT
END:VTIMEZONE
BEGIN:VEVENT
DTSTART;TZID=Australia/Melbourne:20251007T190000
DTEND;TZID=Australia/Melbourne:20251007T210000
DTSTAMP:20260420T192845
CREATED:20250923T124552Z
LAST-MODIFIED:20250923T124552Z
UID:5046-1759863600-1759870800@rockyriders.com
SUMMARY:Bike Packing Information Night - The Tap Room
DESCRIPTION:This will be a show and tell of all things bike packing in preparation for the upcoming overnight trip on November 8th.
URL:https://rockyriders.com/event/bike-packing-information-night-the-tap-room/
ATTACH;FMTTYPE=image/jpeg:https://rockyriders.com/wp-content/uploads/2025/09/Bike-Packing-info-night-jpeg.jpg
END:VEVENT
END:VCALENDAR